BEGIN:VCALENDAR
VERSION:2.0
PRODID:-//Kathmandu Kickers - ECPv6.15.20//NONSGML v1.0//EN
CALSCALE:GREGORIAN
METHOD:PUBLISH
X-WR-CALNAME:Kathmandu Kickers
X-ORIGINAL-URL:https://kathmandukickers.com.np
X-WR-CALDESC:Events for Kathmandu Kickers
REFRESH-INTERVAL;VALUE=DURATION:PT1H
X-Robots-Tag:noindex
X-PUBLISHED-TTL:PT1H
BEGIN:VTIMEZONE
TZID:Asia/Katmandu
BEGIN:STANDARD
TZOFFSETFROM:+0545
TZOFFSETTO:+0545
TZNAME:+0545
DTSTART:20240101T000000
END:STANDARD
END:VTIMEZONE
BEGIN:VEVENT
DTSTART;TZID=Asia/Katmandu:20251203T150000
DTEND;TZID=Asia/Katmandu:20251203T170000
DTSTAMP:20260421T202347
CREATED:20251120T104235Z
LAST-MODIFIED:20251120T104235Z
UID:5421-1764774000-1764781200@kathmandukickers.com.np
SUMMARY:Martyr's Memorial C Qualifier League
DESCRIPTION:KATHMANDU KICKERS Vs FREEDOM FIGHTER YC
URL:https://kathmandukickers.com.np/event/martyrs-memorial-c-qualifier-league-2/
LOCATION:ANFA Complex\, Satdobato\, Lalitpur
CATEGORIES:Martyr's Memorial C Qualifier League
END:VEVENT
BEGIN:VEVENT
DTSTART;TZID=Asia/Katmandu:20251201T150000
DTEND;TZID=Asia/Katmandu:20251201T170000
DTSTAMP:20260421T202347
CREATED:20251120T104025Z
LAST-MODIFIED:20251120T104025Z
UID:5416-1764601200-1764608400@kathmandukickers.com.np
SUMMARY:Martyr's Memorial C Qualifier League
DESCRIPTION:KATHMANDU KICKERS Vs FC REALE
URL:https://kathmandukickers.com.np/event/martyrs-memorial-c-qualifier-league/
LOCATION:ANFA Complex\, Satdobato\, Lalitpur
CATEGORIES:Martyr's Memorial C Qualifier League
END:VEVENT
BEGIN:VEVENT
DTSTART;TZID=Asia/Katmandu:20251101T080000
DTEND;TZID=Asia/Katmandu:20251213T170000
DTSTAMP:20260421T202347
CREATED:20250917T110842Z
LAST-MODIFIED:20251015T051733Z
UID:4742-1761984000-1765645200@kathmandukickers.com.np
SUMMARY:KK Youth League (U-7\, U-10 & U-13)
DESCRIPTION:Matches will be played on every Saturday only!
URL:https://kathmandukickers.com.np/event/kathmandu-kickers-youth-league-2025/
LOCATION:Coupon Sports Center
CATEGORIES:Kathmandu Kickers Youth League 2025
ORGANIZER;CN="Kathmandu Kickers":MAILTO:info@dipakjoshi.com
END:VEVENT
BEGIN:VEVENT
DTSTART;TZID=Asia/Katmandu:20250601T080000
DTEND;TZID=Asia/Katmandu:20250601T170000
DTSTAMP:20260421T202347
CREATED:20250601T171127Z
LAST-MODIFIED:20250815T110025Z
UID:3483-1748764800-1748797200@kathmandukickers.com.np
SUMMARY:ANFA U-16 Youth League
DESCRIPTION:
URL:https://kathmandukickers.com.np/event/test/
ATTACH;FMTTYPE=image/jpeg:https://kathmandukickers.com.np/wp-content/uploads/2025/04/WhatsApp-Image-2025-04-08-at-20.35.16.jpeg
ORGANIZER;CN="Kathmandu Kickers":MAILTO:info@dipakjoshi.com
END:VEVENT
END:VCALENDAR